BEGIN:VCALENDAR
VERSION:2.0
PRODID:-//Be Pro Be Proud - ECPv5.9.0//NONSGML v1.0//EN
CALSCALE:GREGORIAN
METHOD:PUBLISH
X-WR-CALNAME:Be Pro Be Proud
X-ORIGINAL-URL:https://www.archive.beprobeproudga.org
X-WR-CALDESC:Events for Be Pro Be Proud
BEGIN:VTIMEZONE
TZID:America/New_York
BEGIN:DAYLIGHT
TZOFFSETFROM:-0500
TZOFFSETTO:-0400
TZNAME:EDT
DTSTART:20210314T070000
END:DAYLIGHT
BEGIN:STANDARD
TZOFFSETFROM:-0400
TZOFFSETTO:-0500
TZNAME:EST
DTSTART:20211107T060000
END:STANDARD
END:VTIMEZONE
BEGIN:VEVENT
DTSTART;TZID=America/New_York:20210419T080000
DTEND;TZID=America/New_York:20210419T150000
DTSTAMP:20260423T111331
CREATED:20210415T133032Z
LAST-MODIFIED:20210415T133032Z
UID:3942-1618819200-1618844400@www.archive.beprobeproudga.org
SUMMARY:Allatoona High School
DESCRIPTION:
URL:https://www.archive.beprobeproudga.org/event/allatoona-high-school/
LOCATION:Allatoona High School\, 3300 Dallas Acworth Hwy NW\, Acworth\, GA\, 30101\, United States
END:VEVENT
END:VCALENDAR