BEGIN:VCALENDAR
VERSION:2.0
PRODID:-//Be Pro Be Proud - ECPv5.9.0//NONSGML v1.0//EN
CALSCALE:GREGORIAN
METHOD:PUBLISH
X-WR-CALNAME:Be Pro Be Proud
X-ORIGINAL-URL:https://www.archive.beprobeproudga.org
X-WR-CALDESC:Events for Be Pro Be Proud
BEGIN:VTIMEZONE
TZID:America/New_York
BEGIN:DAYLIGHT
TZOFFSETFROM:-0500
TZOFFSETTO:-0400
TZNAME:EDT
DTSTART:20210314T070000
END:DAYLIGHT
BEGIN:STANDARD
TZOFFSETFROM:-0400
TZOFFSETTO:-0500
TZNAME:EST
DTSTART:20211107T060000
END:STANDARD
END:VTIMEZONE
BEGIN:VEVENT
DTSTART;TZID=America/New_York:20211101T080000
DTEND;TZID=America/New_York:20211101T170000
DTSTAMP:20260424T060330
CREATED:20210920T174600Z
LAST-MODIFIED:20210920T174600Z
UID:4231-1635753600-1635786000@www.archive.beprobeproudga.org
SUMMARY:Be Pro Skills Challenge - Polk County College and Career Academy
DESCRIPTION:
URL:https://www.archive.beprobeproudga.org/event/be-pro-skills-challenge-polk-county-college-and-career-academy/
LOCATION:Polk County College and Career Academy\, 167 Frank Lott Drive\, Cedartown\, GA\, United States
END:VEVENT
END:VCALENDAR