BEGIN:VCALENDAR
VERSION:2.0
PRODID:-//Be Pro Be Proud - ECPv5.9.0//NONSGML v1.0//EN
CALSCALE:GREGORIAN
METHOD:PUBLISH
X-WR-CALNAME:Be Pro Be Proud
X-ORIGINAL-URL:https://www.archive.beprobeproudga.org
X-WR-CALDESC:Events for Be Pro Be Proud
BEGIN:VTIMEZONE
TZID:America/New_York
BEGIN:DAYLIGHT
TZOFFSETFROM:-0500
TZOFFSETTO:-0400
TZNAME:EDT
DTSTART:20200308T070000
END:DAYLIGHT
BEGIN:STANDARD
TZOFFSETFROM:-0400
TZOFFSETTO:-0500
TZNAME:EST
DTSTART:20201101T060000
END:STANDARD
END:VTIMEZONE
BEGIN:VEVENT
DTSTART;TZID=America/New_York:20201130T080000
DTEND;TZID=America/New_York:20201201T153000
DTSTAMP:20260421T130624
CREATED:20201104T184435Z
LAST-MODIFIED:20201104T184435Z
UID:3541-1606723200-1606836600@www.archive.beprobeproudga.org
SUMMARY:Berkmar High School
DESCRIPTION:
URL:https://www.archive.beprobeproudga.org/event/berkmar-high-school/
LOCATION:405 Pleasant Hill Rd\, Lilburn\, GA 30047\, 405 Pleasant Hill Rd\, Lilburn\, GA\, 30047
END:VEVENT
END:VCALENDAR