BEGIN:VCALENDAR
VERSION:2.0
PRODID:-//Be Pro Be Proud - ECPv5.9.0//NONSGML v1.0//EN
CALSCALE:GREGORIAN
METHOD:PUBLISH
X-WR-CALNAME:Be Pro Be Proud
X-ORIGINAL-URL:https://www.archive.beprobeproudga.org
X-WR-CALDESC:Events for Be Pro Be Proud
BEGIN:VTIMEZONE
TZID:America/New_York
BEGIN:DAYLIGHT
TZOFFSETFROM:-0500
TZOFFSETTO:-0400
TZNAME:EDT
DTSTART:20210314T070000
END:DAYLIGHT
BEGIN:STANDARD
TZOFFSETFROM:-0400
TZOFFSETTO:-0500
TZNAME:EST
DTSTART:20211107T060000
END:STANDARD
END:VTIMEZONE
BEGIN:VEVENT
DTSTART;TZID=America/New_York:20210308T080000
DTEND;TZID=America/New_York:20210310T170000
DTSTAMP:20260422T202301
CREATED:20201215T204032Z
LAST-MODIFIED:20210201T192937Z
UID:3600-1615190400-1615395600@www.archive.beprobeproudga.org
SUMMARY:North College and Career Academy
DESCRIPTION:
URL:https://www.archive.beprobeproudga.org/event/carroll-county-college-and-career-academy/
LOCATION:North College and Career Academy\, 604 Wall Street\, Villa Rica\, Georgia\, 30180
END:VEVENT
END:VCALENDAR