BEGIN:VCALENDAR
VERSION:2.0
PRODID:-//Be Pro Be Proud - ECPv5.9.0//NONSGML v1.0//EN
CALSCALE:GREGORIAN
METHOD:PUBLISH
X-WR-CALNAME:Be Pro Be Proud
X-ORIGINAL-URL:https://www.archive.beprobeproudga.org
X-WR-CALDESC:Events for Be Pro Be Proud
BEGIN:VTIMEZONE
TZID:America/New_York
BEGIN:DAYLIGHT
TZOFFSETFROM:-0500
TZOFFSETTO:-0400
TZNAME:EDT
DTSTART:20200308T070000
END:DAYLIGHT
BEGIN:STANDARD
TZOFFSETFROM:-0400
TZOFFSETTO:-0500
TZNAME:EST
DTSTART:20201101T060000
END:STANDARD
END:VTIMEZONE
BEGIN:VEVENT
DTSTART;TZID=America/New_York:20200915T090000
DTEND;TZID=America/New_York:20200915T180000
DTSTAMP:20260419T074513
CREATED:20200903T191821Z
LAST-MODIFIED:20200903T191821Z
UID:3445-1600160400-1600192800@www.archive.beprobeproudga.org
SUMMARY:Chattahoochee Technical College - Woodstock Campus
DESCRIPTION:
URL:https://www.archive.beprobeproudga.org/event/chattahoochee-technical-college-woodstock-campus/
LOCATION:1 Innovation Way\, Woodstock\, GA 30188\, One Innovation Way\, Woodstock\, Georgia\, 30188
END:VEVENT
END:VCALENDAR