BEGIN:VCALENDAR
VERSION:2.0
PRODID:-//Be Pro Be Proud - ECPv5.9.0//NONSGML v1.0//EN
CALSCALE:GREGORIAN
METHOD:PUBLISH
X-WR-CALNAME:Be Pro Be Proud
X-ORIGINAL-URL:https://www.archive.beprobeproudga.org
X-WR-CALDESC:Events for Be Pro Be Proud
BEGIN:VTIMEZONE
TZID:America/New_York
BEGIN:DAYLIGHT
TZOFFSETFROM:-0500
TZOFFSETTO:-0400
TZNAME:EDT
DTSTART:20210314T070000
END:DAYLIGHT
BEGIN:STANDARD
TZOFFSETFROM:-0400
TZOFFSETTO:-0500
TZNAME:EST
DTSTART:20211107T060000
END:STANDARD
END:VTIMEZONE
BEGIN:VEVENT
DTSTART;TZID=America/New_York:20210127T080000
DTEND;TZID=America/New_York:20210129T160000
DTSTAMP:20260422T041419
CREATED:20201106T181609Z
LAST-MODIFIED:20201106T181609Z
UID:3560-1611734400-1611936000@www.archive.beprobeproudga.org
SUMMARY:Creekland Middle School
DESCRIPTION:
URL:https://www.archive.beprobeproudga.org/event/creekland-middle-school/
LOCATION:1555 Owens Store Road Canton\, GA\, 1555 Owens Store Road | Canton\, GA\, Canton\, GA
END:VEVENT
END:VCALENDAR