BEGIN:VCALENDAR
VERSION:2.0
PRODID:-//Be Pro Be Proud - ECPv5.9.0//NONSGML v1.0//EN
CALSCALE:GREGORIAN
METHOD:PUBLISH
X-WR-CALNAME:Be Pro Be Proud
X-ORIGINAL-URL:https://www.archive.beprobeproudga.org
X-WR-CALDESC:Events for Be Pro Be Proud
BEGIN:VTIMEZONE
TZID:America/New_York
BEGIN:DAYLIGHT
TZOFFSETFROM:-0500
TZOFFSETTO:-0400
TZNAME:EDT
DTSTART:20210314T070000
END:DAYLIGHT
BEGIN:STANDARD
TZOFFSETFROM:-0400
TZOFFSETTO:-0500
TZNAME:EST
DTSTART:20211107T060000
END:STANDARD
END:VTIMEZONE
BEGIN:VEVENT
DTSTART;TZID=America/New_York:20210414T080000
DTEND;TZID=America/New_York:20210414T140000
DTSTAMP:20260423T141847
CREATED:20210323T183353Z
LAST-MODIFIED:20210323T183435Z
UID:3788-1618387200-1618408800@www.archive.beprobeproudga.org
SUMMARY:Dublin High School
DESCRIPTION:
URL:https://www.archive.beprobeproudga.org/event/dublin-high-school/
LOCATION:Dublin High School\, 1127 Hillcrest Pkwy\, Dublin\, GA\, 31021\, United States
END:VEVENT
END:VCALENDAR