BEGIN:VCALENDAR
VERSION:2.0
PRODID:-//Be Pro Be Proud - ECPv5.9.0//NONSGML v1.0//EN
CALSCALE:GREGORIAN
METHOD:PUBLISH
X-WR-CALNAME:Be Pro Be Proud
X-ORIGINAL-URL:https://www.archive.beprobeproudga.org
X-WR-CALDESC:Events for Be Pro Be Proud
BEGIN:VTIMEZONE
TZID:America/New_York
BEGIN:DAYLIGHT
TZOFFSETFROM:-0500
TZOFFSETTO:-0400
TZNAME:EDT
DTSTART:20220313T070000
END:DAYLIGHT
BEGIN:STANDARD
TZOFFSETFROM:-0400
TZOFFSETTO:-0500
TZNAME:EST
DTSTART:20221106T060000
END:STANDARD
END:VTIMEZONE
BEGIN:VEVENT
DTSTART;TZID=America/New_York:20220114T080000
DTEND;TZID=America/New_York:20220114T150000
DTSTAMP:20260424T095236
CREATED:20211209T163815Z
LAST-MODIFIED:20211209T163815Z
UID:4300-1642147200-1642172400@www.archive.beprobeproudga.org
SUMMARY:Eastside High School
DESCRIPTION:
URL:https://www.archive.beprobeproudga.org/event/eastside-high-school/
LOCATION:Eastside High School\, 10245 By Pass Rd\, Covington\, GA\, 30014\, United States
END:VEVENT
END:VCALENDAR