BEGIN:VCALENDAR
VERSION:2.0
PRODID:-//Be Pro Be Proud - ECPv5.9.0//NONSGML v1.0//EN
CALSCALE:GREGORIAN
METHOD:PUBLISH
X-WR-CALNAME:Be Pro Be Proud
X-ORIGINAL-URL:https://www.archive.beprobeproudga.org
X-WR-CALDESC:Events for Be Pro Be Proud
BEGIN:VTIMEZONE
TZID:America/New_York
BEGIN:DAYLIGHT
TZOFFSETFROM:-0500
TZOFFSETTO:-0400
TZNAME:EDT
DTSTART:20210314T070000
END:DAYLIGHT
BEGIN:STANDARD
TZOFFSETFROM:-0400
TZOFFSETTO:-0500
TZNAME:EST
DTSTART:20211107T060000
END:STANDARD
END:VTIMEZONE
BEGIN:VEVENT
DTSTART;TZID=America/New_York:20210217T080000
DTEND;TZID=America/New_York:20210219T150000
DTSTAMP:20260422T123505
CREATED:20201216T194259Z
LAST-MODIFIED:20201216T194259Z
UID:3608-1613548800-1613746800@www.archive.beprobeproudga.org
SUMMARY:Forsyth Central High School
DESCRIPTION:
URL:https://www.archive.beprobeproudga.org/event/forsyth-central-high-school/
LOCATION:Forsyth Central High School\, 131 Almon C. Hill Dr\, Cumming\, Georgia\, 30040
END:VEVENT
END:VCALENDAR