BEGIN:VCALENDAR
VERSION:2.0
PRODID:-//Be Pro Be Proud - ECPv5.9.0//NONSGML v1.0//EN
CALSCALE:GREGORIAN
METHOD:PUBLISH
X-WR-CALNAME:Be Pro Be Proud
X-ORIGINAL-URL:https://www.archive.beprobeproudga.org
X-WR-CALDESC:Events for Be Pro Be Proud
BEGIN:VTIMEZONE
TZID:America/New_York
BEGIN:DAYLIGHT
TZOFFSETFROM:-0500
TZOFFSETTO:-0400
TZNAME:EDT
DTSTART:20210314T070000
END:DAYLIGHT
BEGIN:STANDARD
TZOFFSETFROM:-0400
TZOFFSETTO:-0500
TZNAME:EST
DTSTART:20211107T060000
END:STANDARD
END:VTIMEZONE
BEGIN:VEVENT
DTSTART;TZID=America/New_York:20210201T080000
DTEND;TZID=America/New_York:20210202T160000
DTSTAMP:20260422T054459
CREATED:20201106T181749Z
LAST-MODIFIED:20201106T181749Z
UID:3563-1612166400-1612281600@www.archive.beprobeproudga.org
SUMMARY:Freedom Middle School
DESCRIPTION:
URL:https://www.archive.beprobeproudga.org/event/freedom-middle-school/
LOCATION:10550 Bells Ferry Rd\, Canton\, GA 30114\, 10550 Bells Ferry Rd\, Canton\, GA\, 30114
END:VEVENT
END:VCALENDAR