BEGIN:VCALENDAR
VERSION:2.0
PRODID:-//Be Pro Be Proud - ECPv5.9.0//NONSGML v1.0//EN
CALSCALE:GREGORIAN
METHOD:PUBLISH
X-WR-CALNAME:Be Pro Be Proud
X-ORIGINAL-URL:https://www.archive.beprobeproudga.org
X-WR-CALDESC:Events for Be Pro Be Proud
BEGIN:VTIMEZONE
TZID:America/New_York
BEGIN:DAYLIGHT
TZOFFSETFROM:-0500
TZOFFSETTO:-0400
TZNAME:EDT
DTSTART:20210314T070000
END:DAYLIGHT
BEGIN:STANDARD
TZOFFSETFROM:-0400
TZOFFSETTO:-0500
TZNAME:EST
DTSTART:20211107T060000
END:STANDARD
END:VTIMEZONE
BEGIN:VEVENT
DTSTART;TZID=America/New_York:20210209T080000
DTEND;TZID=America/New_York:20210211T160000
DTSTAMP:20260422T090255
CREATED:20201106T182426Z
LAST-MODIFIED:20210201T184836Z
UID:3572-1612857600-1613059200@www.archive.beprobeproudga.org
SUMMARY:Mill Creek Middle School/River Ridge High School
DESCRIPTION:
URL:https://www.archive.beprobeproudga.org/event/mill-creek-middle-school-river-ridge-high-school/
LOCATION:442 Arnold Mill Rd\, Woodstock\, GA 30188\, 442 Arnold Mill Rd\, Woodstock\, GA\, 30188
END:VEVENT
END:VCALENDAR