BEGIN:VCALENDAR
VERSION:2.0
PRODID:-//Be Pro Be Proud - ECPv5.9.0//NONSGML v1.0//EN
CALSCALE:GREGORIAN
METHOD:PUBLISH
X-WR-CALNAME:Be Pro Be Proud
X-ORIGINAL-URL:https://www.archive.beprobeproudga.org
X-WR-CALDESC:Events for Be Pro Be Proud
BEGIN:VTIMEZONE
TZID:America/New_York
BEGIN:DAYLIGHT
TZOFFSETFROM:-0500
TZOFFSETTO:-0400
TZNAME:EDT
DTSTART:20210314T070000
END:DAYLIGHT
BEGIN:STANDARD
TZOFFSETFROM:-0400
TZOFFSETTO:-0500
TZNAME:EST
DTSTART:20211107T060000
END:STANDARD
END:VTIMEZONE
BEGIN:VEVENT
DTSTART;TZID=America/New_York:20210915T170000
DTEND;TZID=America/New_York:20210915T200000
DTSTAMP:20260424T071131
CREATED:20210910T141516Z
LAST-MODIFIED:20210910T141627Z
UID:4220-1631725200-1631736000@www.archive.beprobeproudga.org
SUMMARY:Mountain Education Charter High - Jasper
DESCRIPTION:
URL:https://www.archive.beprobeproudga.org/event/mountain-education-charter-high-jasper/
LOCATION:Mountain Education Charter School – Jasper\, 339 W Church Street\, Jasper\, GA\, 30143\, United States
END:VEVENT
END:VCALENDAR