BEGIN:VCALENDAR
VERSION:2.0
PRODID:-//Be Pro Be Proud - ECPv5.9.0//NONSGML v1.0//EN
CALSCALE:GREGORIAN
METHOD:PUBLISH
X-WR-CALNAME:Be Pro Be Proud
X-ORIGINAL-URL:https://www.archive.beprobeproudga.org
X-WR-CALDESC:Events for Be Pro Be Proud
BEGIN:VTIMEZONE
TZID:America/New_York
BEGIN:DAYLIGHT
TZOFFSETFROM:-0500
TZOFFSETTO:-0400
TZNAME:EDT
DTSTART:20210314T070000
END:DAYLIGHT
BEGIN:STANDARD
TZOFFSETFROM:-0400
TZOFFSETTO:-0500
TZNAME:EST
DTSTART:20211107T060000
END:STANDARD
END:VTIMEZONE
BEGIN:VEVENT
DTSTART;TZID=America/New_York:20210916T170000
DTEND;TZID=America/New_York:20210916T200000
DTSTAMP:20260424T083106
CREATED:20210910T142102Z
LAST-MODIFIED:20210910T142102Z
UID:4224-1631811600-1631822400@www.archive.beprobeproudga.org
SUMMARY:Mountain Education Charter High School
DESCRIPTION:
URL:https://www.archive.beprobeproudga.org/event/mountain-education-charter-high-school-2/
LOCATION:Mountain Education Charter High School\, 6500 Putnam Ford Road\, Woodstock\, GA\, United States
END:VEVENT
END:VCALENDAR