BEGIN:VCALENDAR
VERSION:2.0
PRODID:-//Be Pro Be Proud - ECPv5.9.0//NONSGML v1.0//EN
CALSCALE:GREGORIAN
METHOD:PUBLISH
X-WR-CALNAME:Be Pro Be Proud
X-ORIGINAL-URL:https://www.archive.beprobeproudga.org
X-WR-CALDESC:Events for Be Pro Be Proud
BEGIN:VTIMEZONE
TZID:America/New_York
BEGIN:DAYLIGHT
TZOFFSETFROM:-0500
TZOFFSETTO:-0400
TZNAME:EDT
DTSTART:20200308T070000
END:DAYLIGHT
BEGIN:STANDARD
TZOFFSETFROM:-0400
TZOFFSETTO:-0500
TZNAME:EST
DTSTART:20201101T060000
END:STANDARD
END:VTIMEZONE
BEGIN:VEVENT
DTSTART;TZID=America/New_York:20201208T163000
DTEND;TZID=America/New_York:20201208T203000
DTSTAMP:20260421T162706
CREATED:20201008T131128Z
LAST-MODIFIED:20201008T131128Z
UID:3531-1607445000-1607459400@www.archive.beprobeproudga.org
SUMMARY:Mountain Education Charter High School
DESCRIPTION:
URL:https://www.archive.beprobeproudga.org/event/mountain-education-charter-high-school/
LOCATION:6500 Putnam Ford Road Woodstock\, GA 30189\, 6500 Putnam Ford Road\, Woodstock\, Georgia\, 30189
END:VEVENT
END:VCALENDAR