BEGIN:VCALENDAR
VERSION:2.0
PRODID:-//Be Pro Be Proud - ECPv5.9.0//NONSGML v1.0//EN
CALSCALE:GREGORIAN
METHOD:PUBLISH
X-WR-CALNAME:Be Pro Be Proud
X-ORIGINAL-URL:https://www.archive.beprobeproudga.org
X-WR-CALDESC:Events for Be Pro Be Proud
BEGIN:VTIMEZONE
TZID:America/New_York
BEGIN:DAYLIGHT
TZOFFSETFROM:-0500
TZOFFSETTO:-0400
TZNAME:EDT
DTSTART:20200308T070000
END:DAYLIGHT
BEGIN:STANDARD
TZOFFSETFROM:-0400
TZOFFSETTO:-0500
TZNAME:EST
DTSTART:20201101T060000
END:STANDARD
END:VTIMEZONE
BEGIN:VEVENT
DTSTART;TZID=America/New_York:20201209T080000
DTEND;TZID=America/New_York:20201210T150000
DTSTAMP:20260421T181205
CREATED:20201104T191440Z
LAST-MODIFIED:20201104T191440Z
UID:3548-1607500800-1607612400@www.archive.beprobeproudga.org
SUMMARY:North Hall High School
DESCRIPTION:
URL:https://www.archive.beprobeproudga.org/event/north-hall-high-school/
LOCATION:4885 Mt Vernon Rd\, Gainesville\, GA 30506\, 4885 Mt Vernon Rd\, Gainesville\, GA\, 30506
END:VEVENT
END:VCALENDAR