BEGIN:VCALENDAR
VERSION:2.0
PRODID:-//Be Pro Be Proud - ECPv5.9.0//NONSGML v1.0//EN
CALSCALE:GREGORIAN
METHOD:PUBLISH
X-WR-CALNAME:Be Pro Be Proud
X-ORIGINAL-URL:https://www.archive.beprobeproudga.org
X-WR-CALDESC:Events for Be Pro Be Proud
BEGIN:VTIMEZONE
TZID:America/New_York
BEGIN:DAYLIGHT
TZOFFSETFROM:-0500
TZOFFSETTO:-0400
TZNAME:EDT
DTSTART:20210314T070000
END:DAYLIGHT
BEGIN:STANDARD
TZOFFSETFROM:-0400
TZOFFSETTO:-0500
TZNAME:EST
DTSTART:20211107T060000
END:STANDARD
END:VTIMEZONE
BEGIN:VEVENT
DTSTART;TZID=America/New_York:20211103T080000
DTEND;TZID=America/New_York:20211103T170000
DTSTAMP:20260424T030853
CREATED:20210920T174910Z
LAST-MODIFIED:20210920T174910Z
UID:4237-1635926400-1635958800@www.archive.beprobeproudga.org
SUMMARY:North Murray High School
DESCRIPTION:
URL:https://www.archive.beprobeproudga.org/event/north-murray-high-school/
LOCATION:North Murray High School\, 2568 Mount Carmel Church Road\, Chatsworth\, GA\, 30705\, United States
END:VEVENT
END:VCALENDAR