BEGIN:VCALENDAR
VERSION:2.0
PRODID:-//Be Pro Be Proud - ECPv5.9.0//NONSGML v1.0//EN
CALSCALE:GREGORIAN
METHOD:PUBLISH
X-WR-CALNAME:Be Pro Be Proud
X-ORIGINAL-URL:https://www.archive.beprobeproudga.org
X-WR-CALDESC:Events for Be Pro Be Proud
BEGIN:VTIMEZONE
TZID:America/New_York
BEGIN:DAYLIGHT
TZOFFSETFROM:-0500
TZOFFSETTO:-0400
TZNAME:EDT
DTSTART:20210314T070000
END:DAYLIGHT
BEGIN:STANDARD
TZOFFSETFROM:-0400
TZOFFSETTO:-0500
TZNAME:EST
DTSTART:20211107T060000
END:STANDARD
END:VTIMEZONE
BEGIN:VEVENT
DTSTART;TZID=America/New_York:20210318T090000
DTEND;TZID=America/New_York:20210319T150000
DTSTAMP:20260422T233650
CREATED:20210201T194930Z
LAST-MODIFIED:20210201T194930Z
UID:3659-1616058000-1616166000@www.archive.beprobeproudga.org
SUMMARY:Social Circle High School
DESCRIPTION:
URL:https://www.archive.beprobeproudga.org/event/social-circle-high-school/
LOCATION:Social Circle Area High School\, 154 Alcova Dr\, Social Circle\, GA\, 30025\, United States
END:VEVENT
END:VCALENDAR