BEGIN:VCALENDAR
VERSION:2.0
PRODID:-//Be Pro Be Proud - ECPv5.9.0//NONSGML v1.0//EN
CALSCALE:GREGORIAN
METHOD:PUBLISH
X-WR-CALNAME:Be Pro Be Proud
X-ORIGINAL-URL:https://www.archive.beprobeproudga.org
X-WR-CALDESC:Events for Be Pro Be Proud
BEGIN:VTIMEZONE
TZID:America/New_York
BEGIN:DAYLIGHT
TZOFFSETFROM:-0500
TZOFFSETTO:-0400
TZNAME:EDT
DTSTART:20210314T070000
END:DAYLIGHT
BEGIN:STANDARD
TZOFFSETFROM:-0400
TZOFFSETTO:-0500
TZNAME:EST
DTSTART:20211107T060000
END:STANDARD
END:VTIMEZONE
BEGIN:VEVENT
DTSTART;TZID=America/New_York:20210322T090000
DTEND;TZID=America/New_York:20210323T150000
DTSTAMP:20260423T024302
CREATED:20210201T195445Z
LAST-MODIFIED:20210201T195445Z
UID:3662-1616403600-1616511600@www.archive.beprobeproudga.org
SUMMARY:Walnut Grove Senior High School
DESCRIPTION:
URL:https://www.archive.beprobeproudga.org/event/walnut-grove-senior-high-school/
LOCATION:Walnut Grove Senior High School\, 4863 Guthrie Cemetery Rd\, Loganville\, GA\, 30052\, United States
END:VEVENT
END:VCALENDAR