BEGIN:VCALENDAR
VERSION:2.0
PRODID:-//Be Pro Be Proud - ECPv5.9.0//NONSGML v1.0//EN
CALSCALE:GREGORIAN
METHOD:PUBLISH
X-WR-CALNAME:Be Pro Be Proud
X-ORIGINAL-URL:https://www.archive.beprobeproudga.org
X-WR-CALDESC:Events for Be Pro Be Proud
BEGIN:VTIMEZONE
TZID:America/New_York
BEGIN:DAYLIGHT
TZOFFSETFROM:-0500
TZOFFSETTO:-0400
TZNAME:EDT
DTSTART:20210314T070000
END:DAYLIGHT
BEGIN:STANDARD
TZOFFSETFROM:-0400
TZOFFSETTO:-0500
TZNAME:EST
DTSTART:20211107T060000
END:STANDARD
END:VTIMEZONE
BEGIN:VEVENT
DTSTART;TZID=America/New_York:20210111T080000
DTEND;TZID=America/New_York:20210115T170000
DTSTAMP:20260421T231801
CREATED:20201106T180945Z
LAST-MODIFIED:20201106T180945Z
UID:3551-1610352000-1610730000@www.archive.beprobeproudga.org
SUMMARY:Woodstock Middle/High School
DESCRIPTION:
URL:https://www.archive.beprobeproudga.org/event/woodstock-middle-high-school/
LOCATION:5288\, 2000 Towne Lake Hills S Dr\, Woodstock\, GA 30189\, 5288\, 2000 Towne Lake Hills S Dr\, Woodstock\, GA\, 30189
END:VEVENT
END:VCALENDAR